BEGIN:VCALENDAR
VERSION:2.0
PRODID:icalendar-ruby
CALSCALE:GREGORIAN
METHOD:PUBLISH
BEGIN:VEVENT
DTSTAMP:20260425T164316Z
UID:5-5765953@man.lordsgrace.ca
DTSTART:20261101T191500Z
DTEND:20261101T204500Z
CLASS:PUBLIC
CREATED:20260425T085520
DESCRIPTION:English Service
LAST-MODIFIED:20260425T085520
LOCATION:Sanctuary
SUMMARY:English Service
URL;VALUE=URI:https://man.lordsgrace.ca/events/english-service/2026-11-01
END:VEVENT
END:VCALENDAR
