BEGIN:VCALENDAR
VERSION:2.0
PRODID:icalendar-ruby
CALSCALE:GREGORIAN
METHOD:PUBLISH
BEGIN:VEVENT
DTSTAMP:20260425T152058Z
UID:5-5763218@man.lordsgrace.ca
DTSTART:20261025T181500Z
DTEND:20261025T194500Z
CLASS:PUBLIC
CREATED:20260425T061448
DESCRIPTION:English Service
LAST-MODIFIED:20260425T061448
LOCATION:Sanctuary
SUMMARY:English Service
URL;VALUE=URI:https://man.lordsgrace.ca/events/english-service/2026-10-25
END:VEVENT
END:VCALENDAR
