BEGIN:VCALENDAR
VERSION:2.0
PRODID:icalendar-ruby
CALSCALE:GREGORIAN
METHOD:PUBLISH
BEGIN:VEVENT
DTSTAMP:20260425T133839Z
UID:5-5763217@man.lordsgrace.ca
DTSTART:20261018T181500Z
DTEND:20261018T194500Z
CLASS:PUBLIC
CREATED:20260425T061448
DESCRIPTION:English Service
LAST-MODIFIED:20260425T061448
LOCATION:Sanctuary
SUMMARY:English Service
URL;VALUE=URI:https://man.lordsgrace.ca/events/english-service/2026-10-18
END:VEVENT
END:VCALENDAR
