BEGIN:VCALENDAR
VERSION:2.0
PRODID:icalendar-ruby
CALSCALE:GREGORIAN
METHOD:PUBLISH
BEGIN:VEVENT
DTSTAMP:20260425T121320Z
UID:5-5760482@man.lordsgrace.ca
DTSTART:20261011T181500Z
DTEND:20261011T194500Z
CLASS:PUBLIC
CREATED:20260425T033314
DESCRIPTION:English Service
LAST-MODIFIED:20260425T033314
LOCATION:Sanctuary
SUMMARY:English Service
URL;VALUE=URI:https://man.lordsgrace.ca/events/english-service/2026-10-11
END:VEVENT
END:VCALENDAR
