BEGIN:VCALENDAR
VERSION:2.0
PRODID:icalendar-ruby
CALSCALE:GREGORIAN
METHOD:PUBLISH
BEGIN:VEVENT
DTSTAMP:20260425T104909Z
UID:5-5760481@man.lordsgrace.ca
DTSTART:20261004T181500Z
DTEND:20261004T194500Z
CLASS:PUBLIC
CREATED:20260425T033314
DESCRIPTION:English Service
LAST-MODIFIED:20260425T033314
LOCATION:Sanctuary
SUMMARY:English Service
URL;VALUE=URI:https://man.lordsgrace.ca/events/english-service/2026-10-04
END:VEVENT
END:VCALENDAR
