BEGIN:VCALENDAR
VERSION:2.0
PRODID:icalendar-ruby
CALSCALE:GREGORIAN
METHOD:PUBLISH
BEGIN:VEVENT
DTSTAMP:20260425T164507Z
UID:11-5767417@man.lordsgrace.ca
DTSTART:20261101T174500Z
DTEND:20261101T190000Z
CLASS:PUBLIC
CREATED:20260425T085522
DESCRIPTION:LGC KidZone
LAST-MODIFIED:20260425T085522
LOCATION:Chapel and Library
SUMMARY:Children Sunday School
URL;VALUE=URI:https://man.lordsgrace.ca/events/children-sunday-school/2026-
 11-01
END:VEVENT
END:VCALENDAR
