BEGIN:VCALENDAR
VERSION:2.0
PRODID:icalendar-ruby
CALSCALE:GREGORIAN
METHOD:PUBLISH
BEGIN:VEVENT
DTSTAMP:20260425T152829Z
UID:11-5764682@man.lordsgrace.ca
DTSTART:20261025T164500Z
DTEND:20261025T180000Z
CLASS:PUBLIC
CREATED:20260425T061450
DESCRIPTION:LGC KidZone
LAST-MODIFIED:20260425T061450
LOCATION:Chapel and Library
SUMMARY:Children Sunday School
URL;VALUE=URI:https://man.lordsgrace.ca/events/children-sunday-school/2026-
 10-25
END:VEVENT
END:VCALENDAR
