BEGIN:VCALENDAR
VERSION:2.0
PRODID:icalendar-ruby
CALSCALE:GREGORIAN
METHOD:PUBLISH
BEGIN:VEVENT
DTSTAMP:20260425T110804Z
UID:11-5761945@man.lordsgrace.ca
DTSTART:20261004T164500Z
DTEND:20261004T180000Z
CLASS:PUBLIC
CREATED:20260425T033317
DESCRIPTION:LGC KidZone
LAST-MODIFIED:20260425T033317
LOCATION:Chapel and Library
SUMMARY:Children Sunday School
URL;VALUE=URI:https://man.lordsgrace.ca/events/children-sunday-school/2026-
 10-04
END:VEVENT
END:VCALENDAR
