BEGIN:VCALENDAR
VERSION:2.0
PRODID:icalendar-ruby
CALSCALE:GREGORIAN
METHOD:PUBLISH
BEGIN:VEVENT
DTSTAMP:20260425T005118Z
UID:11-5759204@man.lordsgrace.ca
DTSTART:20260816T164500Z
DTEND:20260816T180000Z
CLASS:PUBLIC
CREATED:20260424T174327
DESCRIPTION:LGC KidZone
LAST-MODIFIED:20260424T174327
LOCATION:Chapel and Library
SUMMARY:Children Sunday School
URL;VALUE=URI:https://man.lordsgrace.ca/events/children-sunday-school/2026-
 08-16
END:VEVENT
END:VCALENDAR
