BEGIN:VCALENDAR
VERSION:2.0
PRODID:icalendar-ruby
CALSCALE:GREGORIAN
METHOD:PUBLISH
BEGIN:VEVENT
DTSTAMP:20260424T161718Z
UID:11-5748262@man.lordsgrace.ca
DTSTART:20260705T164500Z
DTEND:20260705T180000Z
CLASS:PUBLIC
CREATED:20260424T063047
DESCRIPTION:LGC KidZone
LAST-MODIFIED:20260424T063047
LOCATION:Chapel and Library
SUMMARY:Children Sunday School
URL;VALUE=URI:https://man.lordsgrace.ca/events/children-sunday-school/2026-
 07-05
END:VEVENT
END:VCALENDAR
