BEGIN:VCALENDAR
VERSION:2.0
PRODID:icalendar-ruby
CALSCALE:GREGORIAN
METHOD:PUBLISH
BEGIN:VEVENT
DTSTAMP:20260424T143902Z
UID:11-5748261@man.lordsgrace.ca
DTSTART:20260628T164500Z
DTEND:20260628T180000Z
CLASS:PUBLIC
CREATED:20260424T063047
DESCRIPTION:LGC KidZone
LAST-MODIFIED:20260424T063047
LOCATION:Chapel and Library
SUMMARY:Children Sunday School
URL;VALUE=URI:https://man.lordsgrace.ca/events/children-sunday-school/2026-
 06-28
END:VEVENT
END:VCALENDAR
