BEGIN:VCALENDAR
VERSION:2.0
PRODID:icalendar-ruby
CALSCALE:GREGORIAN
METHOD:PUBLISH
BEGIN:VEVENT
DTSTAMP:20260424T113956Z
UID:11-5745525@man.lordsgrace.ca
DTSTART:20260614T164500Z
DTEND:20260614T180000Z
CLASS:PUBLIC
CREATED:20260424T033557
DESCRIPTION:LGC KidZone
LAST-MODIFIED:20260424T033557
LOCATION:Chapel and Library
SUMMARY:Children Sunday School
URL;VALUE=URI:https://man.lordsgrace.ca/events/children-sunday-school/2026-
 06-14
END:VEVENT
END:VCALENDAR
