BEGIN:VCALENDAR
VERSION:2.0
PRODID:icalendar-ruby
CALSCALE:GREGORIAN
METHOD:PUBLISH
BEGIN:VEVENT
DTSTAMP:20260424T070902Z
UID:11-5742788@man.lordsgrace.ca
DTSTART:20260524T164500Z
DTEND:20260524T180000Z
CLASS:PUBLIC
CREATED:20260423T180811
DESCRIPTION:LGC KidZone
LAST-MODIFIED:20260423T180811
LOCATION:Chapel and Library
SUMMARY:Children Sunday School
URL;VALUE=URI:https://man.lordsgrace.ca/events/children-sunday-school/2026-
 05-24
END:VEVENT
END:VCALENDAR
